Workbook

Sheet full inscripció
H1: federació catalana de bàdminton
J2: Pavelló Municipal del Congost
J3: C/ Maria Palau, 25; 08403 Granollers
A4: FULL D'INSCRIPCIÓ 2*: | D4: Circuit Català de Vilanova del Vallès | L4: Tel. i fax.: 93 849 04 17
H5: e-mail: fecab@badminton.cat www.badminton.cat
A6: DATA: | C6: 21 i 22 de febrer de 2015 | E6: CLUB:
A7: PERSONA RESPONSABLE: | F7: TEL: | H7: E-MAIL:
A9: Nom i cognoms | D9: Sexe H/D | E9: INDIVIDUALS si/no | F9: categ. | G9: Dobles amb/club | I9: categ. | J9: Mixtes amb/club | N9: categ.
A11: 1
A12: 2
A13: 3
A14: 4
A15: 5
A16: 6
A17: 7
A18: 8
A19: 9
A20: 10
A21: 11
A22: 12
... A30: 20
H32: =COUNTIF(L71:L90,"4")+COUNTIF('full inscripció 2'!L71:L90,"4") -> 0 | I32: de | J32: 6 | K32: € | L32: =H32*J32 -> 0
H33: =COUNTIF(L71:L90,"1")+COUNTIF('full inscripció 2'!L71:L90,"1") -> 0 | I33: de | J33: 8.5 | K33: € | L33: =H33*J33 -> 0
H34: =COUNTIF(L71:L90,"8")+COUNTIF(L71:L90,"5")+COUNTIF('full inscripció 2'!L71:L90,"8")+COUNTIF('full inscripció 2'!L71:L90,"5") -> 0 | I34: de | J34: 10.5 | K34: € | L34: =H34*J34 -> 0
H35: =COUNTIF(L71:L90,"2")+COUNTIF('full inscripció 2'!L71:L90,"2") -> 0 | I35: de | J35: 13 | K35: € | L35: =H35*J35 -> 0
H37: =SUM(H32:H36) -> 0 | J37: totals | L37: =SUM(L32:L35) -> 0
D71: H | E71: si | F71: A | I71: =COUNTIF(F11,$F$71)+COUNTIF(F11,$F$72)+COUNTIF(F11,$F$73)+COUNTIF(F11,$F$74)+COUNTIF(F11,$F$75)+COUNTIF(F11,$F$76)+COUNTIF(F11,$F$77)+COUNTIF(F11,$F$78)+COUNTIF(F11,$F$79)+4*(COUNTIF(F11,$F$80)+COUNTIF(F11,$F$81)) -> 0 | J71: =COUNTIF(I11,$F$71)+COUNTIF(I11,$F$72)+COUNTIF(I11,$F$73)+COUNTIF(I11,$F$74)+COUNTIF(I11,$F$75)+COUNTIF(I11,$F$76)+COUNTIF(I11,$F$77)+COUNTIF(I11,$F$78)+COUNTIF(I11,$F$79)+4*(COUNTIF(I11,$F$80)+COUNTIF(I11,$F$81)) -> 0 | K71: =COUNTIF(N11,$F$71)+COUNTIF(N11,$F$72)+COUNTIF(N11,$F$73)+COUNTIF(N11,$F$74)+COUNTIF(N11,$F$75)+COUNTIF(N11,$F$76)+COUNTIF(N11,$F$77)+COUNTIF(N11,$F$78)+COUNTIF(N11,$F$79)+4*(COUNTIF(N11,$F$80)+COUNTIF(N11,$F$81)) -> 0 | L71: =SUM(I71:K71) -> 0
D72: D | E72: no | F72: B | I72: =COUNTIF(F12,$F$71)+COUNTIF(F12,$F$72)+COUNTIF(F12,$F$73)+COUNTIF(F12,$F$74)+COUNTIF(F12,$F$75)+COUNTIF(F12,$F$76)+COUNTIF(F12,$F$77)+COUNTIF(F12,$F$78)+COUNTIF(F12,$F$79)+4*(COUNTIF(F12,$F$80)+COUNTIF(F12,$F$81)) -> 0 | J72: =COUNTIF(I12,$F$71)+COUNTIF(I12,$F$72)+COUNTIF(I12,$F$73)+COUNTIF(I12,$F$74)+COUNTIF(I12,$F$75)+COUNTIF(I12,$F$76)+COUNTIF(I12,$F$77)+COUNTIF(I12,$F$78)+COUNTIF(I12,$F$79)+4*(COUNTIF(I12,$F$80)+COUNTIF(I12,$F$81)) -> 0 | K72: =COUNTIF(N12,$F$71)+COUNTIF(N12,$F$72)+COUNTIF(N12,$F$73)+COUNTIF(N12,$F$74)+COUNTIF(N12,$F$75)+COUNTIF(N12,$F$76)+COUNTIF(N12,$F$77)+COUNTIF(N12,$F$78)+COUNTIF(N12,$F$79)+4*(COUNTIF(N12,$F$80)+COUNTIF(N12,$F$81)) -> 0 | L72: =SUM(I72:K72) -> 0
F73: C | I73: =COUNTIF(F13,$F$71)+COUNTIF(F13,$F$72)+COUNTIF(F13,$F$73)+COUNTIF(F13,$F$74)+COUNTIF(F13,$F$75)+COUNTIF(F13,$F$76)+COUNTIF(F13,$F$77)+COUNTIF(F13,$F$78)+COUNTIF(F13,$F$79)+4*(COUNTIF(F13,$F$80)+COUNTIF(F13,$F$81)) -> 0 | J73: =COUNTIF(I13,$F$71)+COUNTIF(I13,$F$72)+COUNTIF(I13,$F$73)+COUNTIF(I13,$F$74)+COUNTIF(I13,$F$75)+COUNTIF(I13,$F$76)+COUNTIF(I13,$F$77)+COUNTIF(I13,$F$78)+COUNTIF(I13,$F$79)+4*(COUNTIF(I13,$F$80)+COUNTIF(I13,$F$81)) -> 0 | K73: =COUNTIF(N13,$F$71)+COUNTIF(N13,$F$72)+COUNTIF(N13,$F$73)+COUNTIF(N13,$F$74)+COUNTIF(N13,$F$75)+COUNTIF(N13,$F$76)+COUNTIF(N13,$F$77)+COUNTIF(N13,$F$78)+COUNTIF(N13,$F$79)+4*(COUNTIF(N13,$F$80)+COUNTIF(N13,$F$81)) -> 0 | L73: =SUM(I73:K73) -> 0
F74: D | I74: =COUNTIF(F14,$F$71)+COUNTIF(F14,$F$72)+COUNTIF(F14,$F$73)+COUNTIF(F14,$F$74)+COUNTIF(F14,$F$75)+COUNTIF(F14,$F$76)+COUNTIF(F14,$F$77)+COUNTIF(F14,$F$78)+COUNTIF(F14,$F$79)+4*(COUNTIF(F14,$F$80)+COUNTIF(F14,$F$81)) -> 0 | J74: =COUNTIF(I14,$F$71)+COUNTIF(I14,$F$72)+COUNTIF(I14,$F$73)+COUNTIF(I14,$F$74)+COUNTIF(I14,$F$75)+COUNTIF(I14,$F$76)+COUNTIF(I14,$F$77)+COUNTIF(I14,$F$78)+COUNTIF(I14,$F$79)+4*(COUNTIF(I14,$F$80)+COUNTIF(I14,$F$81)) -> 0 | K74: =COUNTIF(N14,$F$71)+COUNTIF(N14,$F$72)+COUNTIF(N14,$F$73)+COUNTIF(N14,$F$74)+COUNTIF(N14,$F$75)+COUNTIF(N14,$F$76)+COUNTIF(N14,$F$77)+COUNTIF(N14,$F$78)+COUNTIF(N14,$F$79)+4*(COUNTIF(N14,$F$80)+COUNTIF(N14,$F$81)) -> 0 | L74: =SUM(I74:K74) -> 0
F75: SC-Dissabte | I75: =COUNTIF(F15,$F$71)+COUNTIF(F15,$F$72)+COUNTIF(F15,$F$73)+COUNTIF(F15,$F$74)+COUNTIF(F15,$F$75)+COUNTIF(F15,$F$76)+COUNTIF(F15,$F$77)+COUNTIF(F15,$F$78)+COUNTIF(F15,$F$79)+4*(COUNTIF(F15,$F$80)+COUNTIF(F15,$F$81)) -> 0 | J75: =COUNTIF(I15,$F$71)+COUNTIF(I15,$F$72)+COUNTIF(I15,$F$73)+COUNTIF(I15,$F$74)+COUNTIF(I15,$F$75)+COUNTIF(I15,$F$76)+COUNTIF(I15,$F$77)+COUNTIF(I15,$F$78)+COUNTIF(I15,$F$79)+4*(COUNTIF(I15,$F$80)+COUNTIF(I15,$F$81)) -> 0 | K75: =COUNTIF(N15,$F$71)+COUNTIF(N15,$F$72)+COUNTIF(N15,$F$73)+COUNTIF(N15,$F$74)+COUNTIF(N15,$F$75)+COUNTIF(N15,$F$76)+COUNTIF(N15,$F$77)+COUNTIF(N15,$F$78)+COUNTIF(N15,$F$79)+4*(COUNTIF(N15,$F$80)+COUNTIF(N15,$F$81)) -> 0 | L75: =SUM(I75:K75) -> 0
F76: SC-Diumenge | I76: =COUNTIF(F16,$F$71)+COUNTIF(F16,$F$72)+COUNTIF(F16,$F$73)+COUNTIF(F16,$F$74)+COUNTIF(F16,$F$75)+COUNTIF(F16,$F$76)+COUNTIF(F16,$F$77)+COUNTIF(F16,$F$78)+COUNTIF(F16,$F$79)+4*(COUNTIF(F16,$F$80)+COUNTIF(F16,$F$81)) -> 0 | J76: =COUNTIF(I16,$F$71)+COUNTIF(I16,$F$72)+COUNTIF(I16,$F$73)+COUNTIF(I16,$F$74)+COUNTIF(I16,$F$75)+COUNTIF(I16,$F$76)+COUNTIF(I16,$F$77)+COUNTIF(I16,$F$78)+COUNTIF(I16,$F$79)+4*(COUNTIF(I16,$F$80)+COUNTIF(I16,$F$81)) -> 0 | K76: =COUNTIF(N16,$F$71)+COUNTIF(N16,$F$72)+COUNTIF(N16,$F$73)+COUNTIF(N16,$F$74)+COUNTIF(N16,$F$75)+COUNTIF(N16,$F$76)+COUNTIF(N16,$F$77)+COUNTIF(N16,$F$78)+COUNTIF(N16,$F$79)+4*(COUNTIF(N16,$F$80)+COUNTIF(N16,$F$81)) -> 0 | L76: =SUM(I76:K76) -> 0
F77: S-17 | I77: =COUNTIF(F17,$F$71)+COUNTIF(F17,$F$72)+COUNTIF(F17,$F$73)+COUNTIF(F17,$F$74)+COUNTIF(F17,$F$75)+COUNTIF(F17,$F$76)+COUNTIF(F17,$F$77)+COUNTIF(F17,$F$78)+COUNTIF(F17,$F$79)+4*(COUNTIF(F17,$F$80)+COUNTIF(F17,$F$81)) -> 0 | J77: =COUNTIF(I17,$F$71)+COUNTIF(I17,$F$72)+COUNTIF(I17,$F$73)+COUNTIF(I17,$F$74)+COUNTIF(I17,$F$75)+COUNTIF(I17,$F$76)+COUNTIF(I17,$F$77)+COUNTIF(I17,$F$78)+COUNTIF(I17,$F$79)+4*(COUNTIF(I17,$F$80)+COUNTIF(I17,$F$81)) -> 0 | K77: =COUNTIF(N17,$F$71)+COUNTIF(N17,$F$72)+COUNTIF(N17,$F$73)+COUNTIF(N17,$F$74)+COUNTIF(N17,$F$75)+COUNTIF(N17,$F$76)+COUNTIF(N17,$F$77)+COUNTIF(N17,$F$78)+COUNTIF(N17,$F$79)+4*(COUNTIF(N17,$F$80)+COUNTIF(N17,$F$81)) -> 0 | L77: =SUM(I77:K77) -> 0
I78: =COUNTIF(F18,$F$71)+COUNTIF(F18,$F$72)+COUNTIF(F18,$F$73)+COUNTIF(F18,$F$74)+COUNTIF(F18,$F$75)+COUNTIF(F18,$F$76)+COUNTIF(F18,$F$77)+COUNTIF(F18,$F$78)+COUNTIF(F18,$F$79)+4*(COUNTIF(F18,$F$80)+COUNTIF(F18,$F$81)) -> 0 | J78: =COUNTIF(I18,$F$71)+COUNTIF(I18,$F$72)+COUNTIF(I18,$F$73)+COUNTIF(I18,$F$74)+COUNTIF(I18,$F$75)+COUNTIF(I18,$F$76)+COUNTIF(I18,$F$77)+COUNTIF(I18,$F$78)+COUNTIF(I18,$F$79)+4*(COUNTIF(I18,$F$80)+COUNTIF(I18,$F$81)) -> 0 | K78: =COUNTIF(N18,$F$71)+COUNTIF(N18,$F$72)+COUNTIF(N18,$F$73)+COUNTIF(N18,$F$74)+COUNTIF(N18,$F$75)+COUNTIF(N18,$F$76)+COUNTIF(N18,$F$77)+COUNTIF(N18,$F$78)+COUNTIF(N18,$F$79)+4*(COUNTIF(N18,$F$80)+COUNTIF(N18,$F$81)) -> 0 | L78: =SUM(I78:K78) -> 0
F79: S-13 | I79: =COUNTIF(F19,$F$71)+COUNTIF(F19,$F$72)+COUNTIF(F19,$F$73)+COUNTIF(F19,$F$74)+COUNTIF(F19,$F$75)+COUNTIF(F19,$F$76)+COUNTIF(F19,$F$77)+COUNTIF(F19,$F$78)+COUNTIF(F19,$F$79)+4*(COUNTIF(F19,$F$80)+COUNTIF(F19,$F$81)) -> 0 | J79: =COUNTIF(I19,$F$71)+COUNTIF(I19,$F$72)+COUNTIF(I19,$F$73)+COUNTIF(I19,$F$74)+COUNTIF(I19,$F$75)+COUNTIF(I19,$F$76)+COUNTIF(I19,$F$77)+COUNTIF(I19,$F$78)+COUNTIF(I19,$F$79)+4*(COUNTIF(I19,$F$80)+COUNTIF(I19,$F$81)) -> 0 | K79: =COUNTIF(N19,$F$71)+COUNTIF(N19,$F$72)+COUNTIF(N19,$F$73)+COUNTIF(N19,$F$74)+COUNTIF(N19,$F$75)+COUNTIF(N19,$F$76)+COUNTIF(N19,$F$77)+COUNTIF(N19,$F$78)+COUNTIF(N19,$F$79)+4*(COUNTIF(N19,$F$80)+COUNTIF(N19,$F$81)) -> 0 | L79: =SUM(I79:K79) -> 0
F80: S-11 | I80: =COUNTIF(F20,$F$71)+COUNTIF(F20,$F$72)+COUNTIF(F20,$F$73)+COUNTIF(F20,$F$74)+COUNTIF(F20,$F$75)+COUNTIF(F20,$F$76)+COUNTIF(F20,$F$77)+COUNTIF(F20,$F$78)+COUNTIF(F20,$F$79)+4*(COUNTIF(F20,$F$80)+COUNTIF(F20,$F$81)) -> 0 | J80: =COUNTIF(I20,$F$71)+COUNTIF(I20,$F$72)+COUNTIF(I20,$F$73)+COUNTIF(I20,$F$74)+COUNTIF(I20,$F$75)+COUNTIF(I20,$F$76)+COUNTIF(I20,$F$77)+COUNTIF(I20,$F$78)+COUNTIF(I20,$F$79)+4*(COUNTIF(I20,$F$80)+COUNTIF(I20,$F$81)) -> 0 | K80: =COUNTIF(N20,$F$71)+COUNTIF(N20,$F$72)+COUNTIF(N20,$F$73)+COUNTIF(N20,$F$74)+COUNTIF(N20,$F$75)+COUNTIF(N20,$F$76)+COUNTIF(N20,$F$77)+COUNTIF(N20,$F$78)+COUNTIF(N20,$F$79)+4*(COUNTIF(N20,$F$80)+COUNTIF(N20,$F$81)) -> 0 | L80: =SUM(I80:K80) -> 0
F81: S-9 | I81: =COUNTIF(F21,$F$71)+COUNTIF(F21,$F$72)+COUNTIF(F21,$F$73)+COUNTIF(F21,$F$74)+COUNTIF(F21,$F$75)+COUNTIF(F21,$F$76)+COUNTIF(F21,$F$77)+COUNTIF(F21,$F$78)+COUNTIF(F21,$F$79)+4*(COUNTIF(F21,$F$80)+COUNTIF(F21,$F$81)) -> 0 | J81: =COUNTIF(I21,$F$71)+COUNTIF(I21,$F$72)+COUNTIF(I21,$F$73)+COUNTIF(I21,$F$74)+COUNTIF(I21,$F$75)+COUNTIF(I21,$F$76)+COUNTIF(I21,$F$77)+COUNTIF(I21,$F$78)+COUNTIF(I21,$F$79)+4*(COUNTIF(I21,$F$80)+COUNTIF(I21,$F$81)) -> 0 | K81: =COUNTIF(N21,$F$71)+COUNTIF(N21,$F$72)+COUNTIF(N21,$F$73)+COUNTIF(N21,$F$74)+COUNTIF(N21,$F$75)+COUNTIF(N21,$F$76)+COUNTIF(N21,$F$77)+COUNTIF(N21,$F$78)+COUNTIF(N21,$F$79)+4*(COUNTIF(N21,$F$80)+COUNTIF(N21,$F$81)) -> 0 | L81: =SUM(I81:K81) -> 0
I82: =COUNTIF(F22,$F$71)+COUNTIF(F22,$F$72)+COUNTIF(F22,$F$73)+COUNTIF(F22,$F$74)+COUNTIF(F22,$F$75)+COUNTIF(F22,$F$76)+COUNTIF(F22,$F$77)+COUNTIF(F22,$F$78)+COUNTIF(F22,$F$79)+4*(COUNTIF(F22,$F$80)+COUNTIF(F22,$F$81)) -> 0 | J82: =COUNTIF(I22,$F$71)+COUNTIF(I22,$F$72)+COUNTIF(I22,$F$73)+COUNTIF(I22,$F$74)+COUNTIF(I22,$F$75)+COUNTIF(I22,$F$76)+COUNTIF(I22,$F$77)+COUNTIF(I22,$F$78)+COUNTIF(I22,$F$79)+4*(COUNTIF(I22,$F$80)+COUNTIF(I22,$F$81)) -> 0 | K82: =COUNTIF(N22,$F$71)+COUNTIF(N22,$F$72)+COUNTIF(N22,$F$73)+COUNTIF(N22,$F$74)+COUNTIF(N22,$F$75)+COUNTIF(N22,$F$76)+COUNTIF(N22,$F$77)+COUNTIF(N22,$F$78)+COUNTIF(N22,$F$79)+4*(COUNTIF(N22,$F$80)+COUNTIF(N22,$F$81)) -> 0 | L82: =SUM(I82:K82) -> 0
I83: =COUNTIF(F23,$F$71)+COUNTIF(F23,$F$72)+COUNTIF(F23,$F$73)+COUNTIF(F23,$F$74)+COUNTIF(F23,$F$75)+COUNTIF(F23,$F$76)+COUNTIF(F23,$F$77)+COUNTIF(F23,$F$78)+COUNTIF(F23,$F$79)+4*(COUNTIF(F23,$F$80)+COUNTIF(F23,$F$81)) -> 0 | J83: =COUNTIF(I23,$F$71)+COUNTIF(I23,$F$72)+COUNTIF(I23,$F$73)+COUNTIF(I23,$F$74)+COUNTIF(I23,$F$75)+COUNTIF(I23,$F$76)+COUNTIF(I23,$F$77)+COUNTIF(I23,$F$78)+COUNTIF(I23,$F$79)+4*(COUNTIF(I23,$F$80)+COUNTIF(I23,$F$81)) -> 0 | K83: =COUNTIF(N23,$F$71)+COUNTIF(N23,$F$72)+COUNTIF(N23,$F$73)+COUNTIF(N23,$F$74)+COUNTIF(N23,$F$75)+COUNTIF(N23,$F$76)+COUNTIF(N23,$F$77)+COUNTIF(N23,$F$78)+COUNTIF(N23,$F$79)+4*(COUNTIF(N23,$F$80)+COUNTIF(N23,$F$81)) -> 0 | L83: =SUM(I83:K83) -> 0
I84: =COUNTIF(F24,$F$71)+COUNTIF(F24,$F$72)+COUNTIF(F24,$F$73)+COUNTIF(F24,$F$74)+COUNTIF(F24,$F$75)+COUNTIF(F24,$F$76)+COUNTIF(F24,$F$77)+COUNTIF(F24,$F$78)+COUNTIF(F24,$F$79)+4*(COUNTIF(F24,$F$80)+COUNTIF(F24,$F$81)) -> 0 | J84: =COUNTIF(I24,$F$71)+COUNTIF(I24,$F$72)+COUNTIF(I24,$F$73)+COUNTIF(I24,$F$74)+COUNTIF(I24,$F$75)+COUNTIF(I24,$F$76)+COUNTIF(I24,$F$77)+COUNTIF(I24,$F$78)+COUNTIF(I24,$F$79)+4*(COUNTIF(I24,$F$80)+COUNTIF(I24,$F$81)) -> 0 | K84: =COUNTIF(N24,$F$71)+COUNTIF(N24,$F$72)+COUNTIF(N24,$F$73)+COUNTIF(N24,$F$74)+COUNTIF(N24,$F$75)+COUNTIF(N24,$F$76)+COUNTIF(N24,$F$77)+COUNTIF(N24,$F$78)+COUNTIF(N24,$F$79)+4*(COUNTIF(N24,$F$80)+COUNTIF(N24,$F$81)) -> 0 | L84: =SUM(I84:K84) -> 0
I85: =COUNTIF(F25,$F$71)+COUNTIF(F25,$F$72)+COUNTIF(F25,$F$73)+COUNTIF(F25,$F$74)+COUNTIF(F25,$F$75)+COUNTIF(F25,$F$76)+COUNTIF(F25,$F$77)+COUNTIF(F25,$F$78)+COUNTIF(F25,$F$79)+4*(COUNTIF(F25,$F$80)+COUNTIF(F25,$F$81)) -> 0 | J85: =COUNTIF(I25,$F$71)+COUNTIF(I25,$F$72)+COUNTIF(I25,$F$73)+COUNTIF(I25,$F$74)+COUNTIF(I25,$F$75)+COUNTIF(I25,$F$76)+COUNTIF(I25,$F$77)+COUNTIF(I25,$F$78)+COUNTIF(I25,$F$79)+4*(COUNTIF(I25,$F$80)+COUNTIF(I25,$F$81)) -> 0 | K85: =COUNTIF(N25,$F$71)+COUNTIF(N25,$F$72)+COUNTIF(N25,$F$73)+COUNTIF(N25,$F$74)+COUNTIF(N25,$F$75)+COUNTIF(N25,$F$76)+COUNTIF(N25,$F$77)+COUNTIF(N25,$F$78)+COUNTIF(N25,$F$79)+4*(COUNTIF(N25,$F$80)+COUNTIF(N25,$F$81)) -> 0 | L85: =SUM(I85:K85) -> 0
I86: =COUNTIF(F26,$F$71)+COUNTIF(F26,$F$72)+COUNTIF(F26,$F$73)+COUNTIF(F26,$F$74)+COUNTIF(F26,$F$75)+COUNTIF(F26,$F$76)+COUNTIF(F26,$F$77)+COUNTIF(F26,$F$78)+COUNTIF(F26,$F$79)+4*(COUNTIF(F26,$F$80)+COUNTIF(F26,$F$81)) -> 0 | J86: =COUNTIF(I26,$F$71)+COUNTIF(I26,$F$72)+COUNTIF(I26,$F$73)+COUNTIF(I26,$F$74)+COUNTIF(I26,$F$75)+COUNTIF(I26,$F$76)+COUNTIF(I26,$F$77)+COUNTIF(I26,$F$78)+COUNTIF(I26,$F$79)+4*(COUNTIF(I26,$F$80)+COUNTIF(I26,$F$81)) -> 0 | K86: =COUNTIF(N26,$F$71)+COUNTIF(N26,$F$72)+COUNTIF(N26,$F$73)+COUNTIF(N26,$F$74)+COUNTIF(N26,$F$75)+COUNTIF(N26,$F$76)+COUNTIF(N26,$F$77)+COUNTIF(N26,$F$78)+COUNTIF(N26,$F$79)+4*(COUNTIF(N26,$F$80)+COUNTIF(N26,$F$81)) -> 0 | L86: =SUM(I86:K86) -> 0
I87: =COUNTIF(F27,$F$71)+COUNTIF(F27,$F$72)+COUNTIF(F27,$F$73)+COUNTIF(F27,$F$74)+COUNTIF(F27,$F$75)+COUNTIF(F27,$F$76)+COUNTIF(F27,$F$77)+COUNTIF(F27,$F$78)+COUNTIF(F27,$F$79)+4*(COUNTIF(F27,$F$80)+COUNTIF(F27,$F$81)) -> 0 | J87: =COUNTIF(I27,$F$71)+COUNTIF(I27,$F$72)+COUNTIF(I27,$F$73)+COUNTIF(I27,$F$74)+COUNTIF(I27,$F$75)+COUNTIF(I27,$F$76)+COUNTIF(I27,$F$77)+COUNTIF(I27,$F$78)+COUNTIF(I27,$F$79)+4*(COUNTIF(I27,$F$80)+COUNTIF(I27,$F$81)) -> 0 | K87: =COUNTIF(N27,$F$71)+COUNTIF(N27,$F$72)+COUNTIF(N27,$F$73)+COUNTIF(N27,$F$74)+COUNTIF(N27,$F$75)+COUNTIF(N27,$F$76)+COUNTIF(N27,$F$77)+COUNTIF(N27,$F$78)+COUNTIF(N27,$F$79)+4*(COUNTIF(N27,$F$80)+COUNTIF(N27,$F$81)) -> 0 | L87: =SUM(I87:K87) -> 0
I88: =COUNTIF(F28,$F$71)+COUNTIF(F28,$F$72)+COUNTIF(F28,$F$73)+COUNTIF(F28,$F$74)+COUNTIF(F28,$F$75)+COUNTIF(F28,$F$76)+COUNTIF(F28,$F$77)+COUNTIF(F28,$F$78)+COUNTIF(F28,$F$79)+4*(COUNTIF(F28,$F$80)+COUNTIF(F28,$F$81)) -> 0 | J88: =COUNTIF(I28,$F$71)+COUNTIF(I28,$F$72)+COUNTIF(I28,$F$73)+COUNTIF(I28,$F$74)+COUNTIF(I28,$F$75)+COUNTIF(I28,$F$76)+COUNTIF(I28,$F$77)+COUNTIF(I28,$F$78)+COUNTIF(I28,$F$79)+4*(COUNTIF(I28,$F$80)+COUNTIF(I28,$F$81)) -> 0 | K88: =COUNTIF(N28,$F$71)+COUNTIF(N28,$F$72)+COUNTIF(N28,$F$73)+COUNTIF(N28,$F$74)+COUNTIF(N28,$F$75)+COUNTIF(N28,$F$76)+COUNTIF(N28,$F$77)+COUNTIF(N28,$F$78)+COUNTIF(N28,$F$79)+4*(COUNTIF(N28,$F$80)+COUNTIF(N28,$F$81)) -> 0 | L88: =SUM(I88:K88) -> 0
I89: =COUNTIF(F29,$F$71)+COUNTIF(F29,$F$72)+COUNTIF(F29,$F$73)+COUNTIF(F29,$F$74)+COUNTIF(F29,$F$75)+COUNTIF(F29,$F$76)+COUNTIF(F29,$F$77)+COUNTIF(F29,$F$78)+COUNTIF(F29,$F$79)+4*(COUNTIF(F29,$F$80)+COUNTIF(F29,$F$81)) -> 0 | J89: =COUNTIF(I29,$F$71)+COUNTIF(I29,$F$72)+COUNTIF(I29,$F$73)+COUNTIF(I29,$F$74)+COUNTIF(I29,$F$75)+COUNTIF(I29,$F$76)+COUNTIF(I29,$F$77)+COUNTIF(I29,$F$78)+COUNTIF(I29,$F$79)+4*(COUNTIF(I29,$F$80)+COUNTIF(I29,$F$81)) -> 0 | K89: =COUNTIF(N29,$F$71)+COUNTIF(N29,$F$72)+COUNTIF(N29,$F$73)+COUNTIF(N29,$F$74)+COUNTIF(N29,$F$75)+COUNTIF(N29,$F$76)+COUNTIF(N29,$F$77)+COUNTIF(N29,$F$78)+COUNTIF(N29,$F$79)+4*(COUNTIF(N29,$F$80)+COUNTIF(N29,$F$81)) -> 0 | L89: =SUM(I89:K89) -> 0
I90: =COUNTIF(F30,$F$71)+COUNTIF(F30,$F$72)+COUNTIF(F30,$F$73)+COUNTIF(F30,$F$74)+COUNTIF(F30,$F$75)+COUNTIF(F30,$F$76)+COUNTIF(F30,$F$77)+COUNTIF(F30,$F$78)+COUNTIF(F30,$F$79)+4*(COUNTIF(F30,$F$80)+COUNTIF(F30,$F$81)) -> 0 | J90: =COUNTIF(I30,$F$71)+COUNTIF(I30,$F$72)+COUNTIF(I30,$F$73)+COUNTIF(I30,$F$74)+COUNTIF(I30,$F$75)+COUNTIF(I30,$F$76)+COUNTIF(I30,$F$77)+COUNTIF(I30,$F$78)+COUNTIF(I30,$F$79)+4*(COUNTIF(I30,$F$80)+COUNTIF(I30,$F$81)) -> 0 | K90: =COUNTIF(N30,$F$71)+COUNTIF(N30,$F$72)+COUNTIF(N30,$F$73)+COUNTIF(N30,$F$74)+COUNTIF(N30,$F$75)+COUNTIF(N30,$F$76)+COUNTIF(N30,$F$77)+COUNTIF(N30,$F$78)+COUNTIF(N30,$F$79)+4*(COUNTIF(N30,$F$80)+COUNTIF(N30,$F$81)) -> 0 | L90: =SUM(I90:K90) -> 0

Sheet full inscripció 2
H1: federació catalana de bàdminton
J2: Pavelló Municipal del Congost
J3: C/ Maria Palau, 25; 08403 Granollers
A4: FULL D'INSCRIPCIÓ 2*: | D4: Circuit Català de Vilanova del Vallès | L4: Tel. i fax.: 93 849 04 17
H5: e-mail: fecab@badminton.cat www.badminton.cat
A6: DATA: | C6: 21 i 22 de febrer de 2015 | E6: CLUB:
A7: PERSONA RESPONSABLE: | F7: TEL: | H7: E-MAIL:
A9: Nom i cognoms | D9: Sexe H/D | E9: INDIVIDUALS si/no | F9: categ. | G9: Dobles amb/club | I9: categ. | J9: Mixtes amb/club | N9: categ.
A11: 21
A12: 22
A13: 23
A14: 24
A15: 25
A16: 26
A17: 27
A18: 28
A19: 29
A20: 30
A21: 31
A22: 32
... A30: 40
H32: ='full inscripció'!H32 -> 0 | I32: de | J32: 6 | K32: € | L32: =H32*J32 -> 0
H33: ='full inscripció'!H33 -> 0 | I33: de | J33: 8.5 | K33: € | L33: =H33*J33 -> 0
H34: ='full inscripció'!H34 -> 0 | I34: de | J34: 10.5 | K34: € | L34: =H34*J34 -> 0
H35: ='full inscripció'!H35 -> 0 | I35: de | J35: 13 | K35: € | L35: =H35*J35 -> 0
H37: =SUM(H32:H36) -> 0 | J37: totals | L37: =SUM(L32:L35) -> 0
D71: H | E71: si | F71: A | I71: =COUNTIF(F11,$F$71)+COUNTIF(F11,$F$72)+COUNTIF(F11,$F$73)+COUNTIF(F11,$F$74)+COUNTIF(F11,$F$75)+COUNTIF(F11,$F$76)+COUNTIF(F11,$F$77)+COUNTIF(F11,$F$78)+COUNTIF(F11,$F$79)+4*(COUNTIF(F11,$F$80)+COUNTIF(F11,$F$81)) -> 0 | J71: =COUNTIF(I11,$F$71)+COUNTIF(I11,$F$72)+COUNTIF(I11,$F$73)+COUNTIF(I11,$F$74)+COUNTIF(I11,$F$75)+COUNTIF(I11,$F$76)+COUNTIF(I11,$F$77)+COUNTIF(I11,$F$78)+COUNTIF(I11,$F$79)+4*(COUNTIF(I11,$F$80)+COUNTIF(I11,$F$81)) -> 0 | K71: =COUNTIF(N11,$F$71)+COUNTIF(N11,$F$72)+COUNTIF(N11,$F$73)+COUNTIF(N11,$F$74)+COUNTIF(N11,$F$75)+COUNTIF(N11,$F$76)+COUNTIF(N11,$F$77)+COUNTIF(N11,$F$78)+COUNTIF(N11,$F$79)+4*(COUNTIF(N11,$F$80)+COUNTIF(N11,$F$81)) -> 0 | L71: =SUM(I71:K71) -> 0
D72: D | E72: no | F72: B | I72: =COUNTIF(F12,$F$71)+COUNTIF(F12,$F$72)+COUNTIF(F12,$F$73)+COUNTIF(F12,$F$74)+COUNTIF(F12,$F$75)+COUNTIF(F12,$F$76)+COUNTIF(F12,$F$77)+COUNTIF(F12,$F$78)+COUNTIF(F12,$F$79)+4*(COUNTIF(F12,$F$80)+COUNTIF(F12,$F$81)) -> 0 | J72: =COUNTIF(I12,$F$71)+COUNTIF(I12,$F$72)+COUNTIF(I12,$F$73)+COUNTIF(I12,$F$74)+COUNTIF(I12,$F$75)+COUNTIF(I12,$F$76)+COUNTIF(I12,$F$77)+COUNTIF(I12,$F$78)+COUNTIF(I12,$F$79)+4*(COUNTIF(I12,$F$80)+COUNTIF(I12,$F$81)) -> 0 | K72: =COUNTIF(N12,$F$71)+COUNTIF(N12,$F$72)+COUNTIF(N12,$F$73)+COUNTIF(N12,$F$74)+COUNTIF(N12,$F$75)+COUNTIF(N12,$F$76)+COUNTIF(N12,$F$77)+COUNTIF(N12,$F$78)+COUNTIF(N12,$F$79)+4*(COUNTIF(N12,$F$80)+COUNTIF(N12,$F$81)) -> 0 | L72: =SUM(I72:K72) -> 0
F73: C | I73: =COUNTIF(F13,$F$71)+COUNTIF(F13,$F$72)+COUNTIF(F13,$F$73)+COUNTIF(F13,$F$74)+COUNTIF(F13,$F$75)+COUNTIF(F13,$F$76)+COUNTIF(F13,$F$77)+COUNTIF(F13,$F$78)+COUNTIF(F13,$F$79)+4*(COUNTIF(F13,$F$80)+COUNTIF(F13,$F$81)) -> 0 | J73: =COUNTIF(I13,$F$71)+COUNTIF(I13,$F$72)+COUNTIF(I13,$F$73)+COUNTIF(I13,$F$74)+COUNTIF(I13,$F$75)+COUNTIF(I13,$F$76)+COUNTIF(I13,$F$77)+COUNTIF(I13,$F$78)+COUNTIF(I13,$F$79)+4*(COUNTIF(I13,$F$80)+COUNTIF(I13,$F$81)) -> 0 | K73: =COUNTIF(N13,$F$71)+COUNTIF(N13,$F$72)+COUNTIF(N13,$F$73)+COUNTIF(N13,$F$74)+COUNTIF(N13,$F$75)+COUNTIF(N13,$F$76)+COUNTIF(N13,$F$77)+COUNTIF(N13,$F$78)+COUNTIF(N13,$F$79)+4*(COUNTIF(N13,$F$80)+COUNTIF(N13,$F$81)) -> 0 | L73: =SUM(I73:K73) -> 0
F74: D | I74: =COUNTIF(F14,$F$71)+COUNTIF(F14,$F$72)+COUNTIF(F14,$F$73)+COUNTIF(F14,$F$74)+COUNTIF(F14,$F$75)+COUNTIF(F14,$F$76)+COUNTIF(F14,$F$77)+COUNTIF(F14,$F$78)+COUNTIF(F14,$F$79)+4*(COUNTIF(F14,$F$80)+COUNTIF(F14,$F$81)) -> 0 | J74: =COUNTIF(I14,$F$71)+COUNTIF(I14,$F$72)+COUNTIF(I14,$F$73)+COUNTIF(I14,$F$74)+COUNTIF(I14,$F$75)+COUNTIF(I14,$F$76)+COUNTIF(I14,$F$77)+COUNTIF(I14,$F$78)+COUNTIF(I14,$F$79)+4*(COUNTIF(I14,$F$80)+COUNTIF(I14,$F$81)) -> 0 | K74: =COUNTIF(N14,$F$71)+COUNTIF(N14,$F$72)+COUNTIF(N14,$F$73)+COUNTIF(N14,$F$74)+COUNTIF(N14,$F$75)+COUNTIF(N14,$F$76)+COUNTIF(N14,$F$77)+COUNTIF(N14,$F$78)+COUNTIF(N14,$F$79)+4*(COUNTIF(N14,$F$80)+COUNTIF(N14,$F$81)) -> 0 | L74: =SUM(I74:K74) -> 0
F75: SC-Dissabte | I75: =COUNTIF(F15,$F$71)+COUNTIF(F15,$F$72)+COUNTIF(F15,$F$73)+COUNTIF(F15,$F$74)+COUNTIF(F15,$F$75)+COUNTIF(F15,$F$76)+COUNTIF(F15,$F$77)+COUNTIF(F15,$F$78)+COUNTIF(F15,$F$79)+4*(COUNTIF(F15,$F$80)+COUNTIF(F15,$F$81)) -> 0 | J75: =COUNTIF(I15,$F$71)+COUNTIF(I15,$F$72)+COUNTIF(I15,$F$73)+COUNTIF(I15,$F$74)+COUNTIF(I15,$F$75)+COUNTIF(I15,$F$76)+COUNTIF(I15,$F$77)+COUNTIF(I15,$F$78)+COUNTIF(I15,$F$79)+4*(COUNTIF(I15,$F$80)+COUNTIF(I15,$F$81)) -> 0 | K75: =COUNTIF(N15,$F$71)+COUNTIF(N15,$F$72)+COUNTIF(N15,$F$73)+COUNTIF(N15,$F$74)+COUNTIF(N15,$F$75)+COUNTIF(N15,$F$76)+COUNTIF(N15,$F$77)+COUNTIF(N15,$F$78)+COUNTIF(N15,$F$79)+4*(COUNTIF(N15,$F$80)+COUNTIF(N15,$F$81)) -> 0 | L75: =SUM(I75:K75) -> 0
F76: SC-Diumenge | I76: =COUNTIF(F16,$F$71)+COUNTIF(F16,$F$72)+COUNTIF(F16,$F$73)+COUNTIF(F16,$F$74)+COUNTIF(F16,$F$75)+COUNTIF(F16,$F$76)+COUNTIF(F16,$F$77)+COUNTIF(F16,$F$78)+COUNTIF(F16,$F$79)+4*(COUNTIF(F16,$F$80)+COUNTIF(F16,$F$81)) -> 0 | J76: =COUNTIF(I16,$F$71)+COUNTIF(I16,$F$72)+COUNTIF(I16,$F$73)+COUNTIF(I16,$F$74)+COUNTIF(I16,$F$75)+COUNTIF(I16,$F$76)+COUNTIF(I16,$F$77)+COUNTIF(I16,$F$78)+COUNTIF(I16,$F$79)+4*(COUNTIF(I16,$F$80)+COUNTIF(I16,$F$81)) -> 0 | K76: =COUNTIF(N16,$F$71)+COUNTIF(N16,$F$72)+COUNTIF(N16,$F$73)+COUNTIF(N16,$F$74)+COUNTIF(N16,$F$75)+COUNTIF(N16,$F$76)+COUNTIF(N16,$F$77)+COUNTIF(N16,$F$78)+COUNTIF(N16,$F$79)+4*(COUNTIF(N16,$F$80)+COUNTIF(N16,$F$81)) -> 0 | L76: =SUM(I76:K76) -> 0
F77: S-17 | I77: =COUNTIF(F17,$F$71)+COUNTIF(F17,$F$72)+COUNTIF(F17,$F$73)+COUNTIF(F17,$F$74)+COUNTIF(F17,$F$75)+COUNTIF(F17,$F$76)+COUNTIF(F17,$F$77)+COUNTIF(F17,$F$78)+COUNTIF(F17,$F$79)+4*(COUNTIF(F17,$F$80)+COUNTIF(F17,$F$81)) -> 0 | J77: =COUNTIF(I17,$F$71)+COUNTIF(I17,$F$72)+COUNTIF(I17,$F$73)+COUNTIF(I17,$F$74)+COUNTIF(I17,$F$75)+COUNTIF(I17,$F$76)+COUNTIF(I17,$F$77)+COUNTIF(I17,$F$78)+COUNTIF(I17,$F$79)+4*(COUNTIF(I17,$F$80)+COUNTIF(I17,$F$81)) -> 0 | K77: =COUNTIF(N17,$F$71)+COUNTIF(N17,$F$72)+COUNTIF(N17,$F$73)+COUNTIF(N17,$F$74)+COUNTIF(N17,$F$75)+COUNTIF(N17,$F$76)+COUNTIF(N17,$F$77)+COUNTIF(N17,$F$78)+COUNTIF(N17,$F$79)+4*(COUNTIF(N17,$F$80)+COUNTIF(N17,$F$81)) -> 0 | L77: =SUM(I77:K77) -> 0
I78: =COUNTIF(F18,$F$71)+COUNTIF(F18,$F$72)+COUNTIF(F18,$F$73)+COUNTIF(F18,$F$74)+COUNTIF(F18,$F$75)+COUNTIF(F18,$F$76)+COUNTIF(F18,$F$77)+COUNTIF(F18,$F$78)+COUNTIF(F18,$F$79)+4*(COUNTIF(F18,$F$80)+COUNTIF(F18,$F$81)) -> 0 | J78: =COUNTIF(I18,$F$71)+COUNTIF(I18,$F$72)+COUNTIF(I18,$F$73)+COUNTIF(I18,$F$74)+COUNTIF(I18,$F$75)+COUNTIF(I18,$F$76)+COUNTIF(I18,$F$77)+COUNTIF(I18,$F$78)+COUNTIF(I18,$F$79)+4*(COUNTIF(I18,$F$80)+COUNTIF(I18,$F$81)) -> 0 | K78: =COUNTIF(N18,$F$71)+COUNTIF(N18,$F$72)+COUNTIF(N18,$F$73)+COUNTIF(N18,$F$74)+COUNTIF(N18,$F$75)+COUNTIF(N18,$F$76)+COUNTIF(N18,$F$77)+COUNTIF(N18,$F$78)+COUNTIF(N18,$F$79)+4*(COUNTIF(N18,$F$80)+COUNTIF(N18,$F$81)) -> 0 | L78: =SUM(I78:K78) -> 0
F79: S-13 | I79: =COUNTIF(F19,$F$71)+COUNTIF(F19,$F$72)+COUNTIF(F19,$F$73)+COUNTIF(F19,$F$74)+COUNTIF(F19,$F$75)+COUNTIF(F19,$F$76)+COUNTIF(F19,$F$77)+COUNTIF(F19,$F$78)+COUNTIF(F19,$F$79)+4*(COUNTIF(F19,$F$80)+COUNTIF(F19,$F$81)) -> 0 | J79: =COUNTIF(I19,$F$71)+COUNTIF(I19,$F$72)+COUNTIF(I19,$F$73)+COUNTIF(I19,$F$74)+COUNTIF(I19,$F$75)+COUNTIF(I19,$F$76)+COUNTIF(I19,$F$77)+COUNTIF(I19,$F$78)+COUNTIF(I19,$F$79)+4*(COUNTIF(I19,$F$80)+COUNTIF(I19,$F$81)) -> 0 | K79: =COUNTIF(N19,$F$71)+COUNTIF(N19,$F$72)+COUNTIF(N19,$F$73)+COUNTIF(N19,$F$74)+COUNTIF(N19,$F$75)+COUNTIF(N19,$F$76)+COUNTIF(N19,$F$77)+COUNTIF(N19,$F$78)+COUNTIF(N19,$F$79)+4*(COUNTIF(N19,$F$80)+COUNTIF(N19,$F$81)) -> 0 | L79: =SUM(I79:K79) -> 0
F80: S-11 | I80: =COUNTIF(F20,$F$71)+COUNTIF(F20,$F$72)+COUNTIF(F20,$F$73)+COUNTIF(F20,$F$74)+COUNTIF(F20,$F$75)+COUNTIF(F20,$F$76)+COUNTIF(F20,$F$77)+COUNTIF(F20,$F$78)+COUNTIF(F20,$F$79)+4*(COUNTIF(F20,$F$80)+COUNTIF(F20,$F$81)) -> 0 | J80: =COUNTIF(I20,$F$71)+COUNTIF(I20,$F$72)+COUNTIF(I20,$F$73)+COUNTIF(I20,$F$74)+COUNTIF(I20,$F$75)+COUNTIF(I20,$F$76)+COUNTIF(I20,$F$77)+COUNTIF(I20,$F$78)+COUNTIF(I20,$F$79)+4*(COUNTIF(I20,$F$80)+COUNTIF(I20,$F$81)) -> 0 | K80: =COUNTIF(N20,$F$71)+COUNTIF(N20,$F$72)+COUNTIF(N20,$F$73)+COUNTIF(N20,$F$74)+COUNTIF(N20,$F$75)+COUNTIF(N20,$F$76)+COUNTIF(N20,$F$77)+COUNTIF(N20,$F$78)+COUNTIF(N20,$F$79)+4*(COUNTIF(N20,$F$80)+COUNTIF(N20,$F$81)) -> 0 | L80: =SUM(I80:K80) -> 0
F81: S-9 | I81: =COUNTIF(F21,$F$71)+COUNTIF(F21,$F$72)+COUNTIF(F21,$F$73)+COUNTIF(F21,$F$74)+COUNTIF(F21,$F$75)+COUNTIF(F21,$F$76)+COUNTIF(F21,$F$77)+COUNTIF(F21,$F$78)+COUNTIF(F21,$F$79)+4*(COUNTIF(F21,$F$80)+COUNTIF(F21,$F$81)) -> 0 | J81: =COUNTIF(I21,$F$71)+COUNTIF(I21,$F$72)+COUNTIF(I21,$F$73)+COUNTIF(I21,$F$74)+COUNTIF(I21,$F$75)+COUNTIF(I21,$F$76)+COUNTIF(I21,$F$77)+COUNTIF(I21,$F$78)+COUNTIF(I21,$F$79)+4*(COUNTIF(I21,$F$80)+COUNTIF(I21,$F$81)) -> 0 | K81: =COUNTIF(N21,$F$71)+COUNTIF(N21,$F$72)+COUNTIF(N21,$F$73)+COUNTIF(N21,$F$74)+COUNTIF(N21,$F$75)+COUNTIF(N21,$F$76)+COUNTIF(N21,$F$77)+COUNTIF(N21,$F$78)+COUNTIF(N21,$F$79)+4*(COUNTIF(N21,$F$80)+COUNTIF(N21,$F$81)) -> 0 | L81: =SUM(I81:K81) -> 0
I82: =COUNTIF(F22,$F$71)+COUNTIF(F22,$F$72)+COUNTIF(F22,$F$73)+COUNTIF(F22,$F$74)+COUNTIF(F22,$F$75)+COUNTIF(F22,$F$76)+COUNTIF(F22,$F$77)+COUNTIF(F22,$F$78)+COUNTIF(F22,$F$79)+4*(COUNTIF(F22,$F$80)+COUNTIF(F22,$F$81)) -> 0 | J82: =COUNTIF(I22,$F$71)+COUNTIF(I22,$F$72)+COUNTIF(I22,$F$73)+COUNTIF(I22,$F$74)+COUNTIF(I22,$F$75)+COUNTIF(I22,$F$76)+COUNTIF(I22,$F$77)+COUNTIF(I22,$F$78)+COUNTIF(I22,$F$79)+4*(COUNTIF(I22,$F$80)+COUNTIF(I22,$F$81)) -> 0 | K82: =COUNTIF(N22,$F$71)+COUNTIF(N22,$F$72)+COUNTIF(N22,$F$73)+COUNTIF(N22,$F$74)+COUNTIF(N22,$F$75)+COUNTIF(N22,$F$76)+COUNTIF(N22,$F$77)+COUNTIF(N22,$F$78)+COUNTIF(N22,$F$79)+4*(COUNTIF(N22,$F$80)+COUNTIF(N22,$F$81)) -> 0 | L82: =SUM(I82:K82) -> 0
I83: =COUNTIF(F23,$F$71)+COUNTIF(F23,$F$72)+COUNTIF(F23,$F$73)+COUNTIF(F23,$F$74)+COUNTIF(F23,$F$75)+COUNTIF(F23,$F$76)+COUNTIF(F23,$F$77)+COUNTIF(F23,$F$78)+COUNTIF(F23,$F$79)+4*(COUNTIF(F23,$F$80)+COUNTIF(F23,$F$81)) -> 0 | J83: =COUNTIF(I23,$F$71)+COUNTIF(I23,$F$72)+COUNTIF(I23,$F$73)+COUNTIF(I23,$F$74)+COUNTIF(I23,$F$75)+COUNTIF(I23,$F$76)+COUNTIF(I23,$F$77)+COUNTIF(I23,$F$78)+COUNTIF(I23,$F$79)+4*(COUNTIF(I23,$F$80)+COUNTIF(I23,$F$81)) -> 0 | K83: =COUNTIF(N23,$F$71)+COUNTIF(N23,$F$72)+COUNTIF(N23,$F$73)+COUNTIF(N23,$F$74)+COUNTIF(N23,$F$75)+COUNTIF(N23,$F$76)+COUNTIF(N23,$F$77)+COUNTIF(N23,$F$78)+COUNTIF(N23,$F$79)+4*(COUNTIF(N23,$F$80)+COUNTIF(N23,$F$81)) -> 0 | L83: =SUM(I83:K83) -> 0
I84: =COUNTIF(F24,$F$71)+COUNTIF(F24,$F$72)+COUNTIF(F24,$F$73)+COUNTIF(F24,$F$74)+COUNTIF(F24,$F$75)+COUNTIF(F24,$F$76)+COUNTIF(F24,$F$77)+COUNTIF(F24,$F$78)+COUNTIF(F24,$F$79)+4*(COUNTIF(F24,$F$80)+COUNTIF(F24,$F$81)) -> 0 | J84: =COUNTIF(I24,$F$71)+COUNTIF(I24,$F$72)+COUNTIF(I24,$F$73)+COUNTIF(I24,$F$74)+COUNTIF(I24,$F$75)+COUNTIF(I24,$F$76)+COUNTIF(I24,$F$77)+COUNTIF(I24,$F$78)+COUNTIF(I24,$F$79)+4*(COUNTIF(I24,$F$80)+COUNTIF(I24,$F$81)) -> 0 | K84: =COUNTIF(N24,$F$71)+COUNTIF(N24,$F$72)+COUNTIF(N24,$F$73)+COUNTIF(N24,$F$74)+COUNTIF(N24,$F$75)+COUNTIF(N24,$F$76)+COUNTIF(N24,$F$77)+COUNTIF(N24,$F$78)+COUNTIF(N24,$F$79)+4*(COUNTIF(N24,$F$80)+COUNTIF(N24,$F$81)) -> 0 | L84: =SUM(I84:K84) -> 0
I85: =COUNTIF(F25,$F$71)+COUNTIF(F25,$F$72)+COUNTIF(F25,$F$73)+COUNTIF(F25,$F$74)+COUNTIF(F25,$F$75)+COUNTIF(F25,$F$76)+COUNTIF(F25,$F$77)+COUNTIF(F25,$F$78)+COUNTIF(F25,$F$79)+4*(COUNTIF(F25,$F$80)+COUNTIF(F25,$F$81)) -> 0 | J85: =COUNTIF(I25,$F$71)+COUNTIF(I25,$F$72)+COUNTIF(I25,$F$73)+COUNTIF(I25,$F$74)+COUNTIF(I25,$F$75)+COUNTIF(I25,$F$76)+COUNTIF(I25,$F$77)+COUNTIF(I25,$F$78)+COUNTIF(I25,$F$79)+4*(COUNTIF(I25,$F$80)+COUNTIF(I25,$F$81)) -> 0 | K85: =COUNTIF(N25,$F$71)+COUNTIF(N25,$F$72)+COUNTIF(N25,$F$73)+COUNTIF(N25,$F$74)+COUNTIF(N25,$F$75)+COUNTIF(N25,$F$76)+COUNTIF(N25,$F$77)+COUNTIF(N25,$F$78)+COUNTIF(N25,$F$79)+4*(COUNTIF(N25,$F$80)+COUNTIF(N25,$F$81)) -> 0 | L85: =SUM(I85:K85) -> 0
I86: =COUNTIF(F26,$F$71)+COUNTIF(F26,$F$72)+COUNTIF(F26,$F$73)+COUNTIF(F26,$F$74)+COUNTIF(F26,$F$75)+COUNTIF(F26,$F$76)+COUNTIF(F26,$F$77)+COUNTIF(F26,$F$78)+COUNTIF(F26,$F$79)+4*(COUNTIF(F26,$F$80)+COUNTIF(F26,$F$81)) -> 0 | J86: =COUNTIF(I26,$F$71)+COUNTIF(I26,$F$72)+COUNTIF(I26,$F$73)+COUNTIF(I26,$F$74)+COUNTIF(I26,$F$75)+COUNTIF(I26,$F$76)+COUNTIF(I26,$F$77)+COUNTIF(I26,$F$78)+COUNTIF(I26,$F$79)+4*(COUNTIF(I26,$F$80)+COUNTIF(I26,$F$81)) -> 0 | K86: =COUNTIF(N26,$F$71)+COUNTIF(N26,$F$72)+COUNTIF(N26,$F$73)+COUNTIF(N26,$F$74)+COUNTIF(N26,$F$75)+COUNTIF(N26,$F$76)+COUNTIF(N26,$F$77)+COUNTIF(N26,$F$78)+COUNTIF(N26,$F$79)+4*(COUNTIF(N26,$F$80)+COUNTIF(N26,$F$81)) -> 0 | L86: =SUM(I86:K86) -> 0
I87: =COUNTIF(F27,$F$71)+COUNTIF(F27,$F$72)+COUNTIF(F27,$F$73)+COUNTIF(F27,$F$74)+COUNTIF(F27,$F$75)+COUNTIF(F27,$F$76)+COUNTIF(F27,$F$77)+COUNTIF(F27,$F$78)+COUNTIF(F27,$F$79)+4*(COUNTIF(F27,$F$80)+COUNTIF(F27,$F$81)) -> 0 | J87: =COUNTIF(I27,$F$71)+COUNTIF(I27,$F$72)+COUNTIF(I27,$F$73)+COUNTIF(I27,$F$74)+COUNTIF(I27,$F$75)+COUNTIF(I27,$F$76)+COUNTIF(I27,$F$77)+COUNTIF(I27,$F$78)+COUNTIF(I27,$F$79)+4*(COUNTIF(I27,$F$80)+COUNTIF(I27,$F$81)) -> 0 | K87: =COUNTIF(N27,$F$71)+COUNTIF(N27,$F$72)+COUNTIF(N27,$F$73)+COUNTIF(N27,$F$74)+COUNTIF(N27,$F$75)+COUNTIF(N27,$F$76)+COUNTIF(N27,$F$77)+COUNTIF(N27,$F$78)+COUNTIF(N27,$F$79)+4*(COUNTIF(N27,$F$80)+COUNTIF(N27,$F$81)) -> 0 | L87: =SUM(I87:K87) -> 0
I88: =COUNTIF(F28,$F$71)+COUNTIF(F28,$F$72)+COUNTIF(F28,$F$73)+COUNTIF(F28,$F$74)+COUNTIF(F28,$F$75)+COUNTIF(F28,$F$76)+COUNTIF(F28,$F$77)+COUNTIF(F28,$F$78)+COUNTIF(F28,$F$79)+4*(COUNTIF(F28,$F$80)+COUNTIF(F28,$F$81)) -> 0 | J88: =COUNTIF(I28,$F$71)+COUNTIF(I28,$F$72)+COUNTIF(I28,$F$73)+COUNTIF(I28,$F$74)+COUNTIF(I28,$F$75)+COUNTIF(I28,$F$76)+COUNTIF(I28,$F$77)+COUNTIF(I28,$F$78)+COUNTIF(I28,$F$79)+4*(COUNTIF(I28,$F$80)+COUNTIF(I28,$F$81)) -> 0 | K88: =COUNTIF(N28,$F$71)+COUNTIF(N28,$F$72)+COUNTIF(N28,$F$73)+COUNTIF(N28,$F$74)+COUNTIF(N28,$F$75)+COUNTIF(N28,$F$76)+COUNTIF(N28,$F$77)+COUNTIF(N28,$F$78)+COUNTIF(N28,$F$79)+4*(COUNTIF(N28,$F$80)+COUNTIF(N28,$F$81)) -> 0 | L88: =SUM(I88:K88) -> 0
I89: =COUNTIF(F29,$F$71)+COUNTIF(F29,$F$72)+COUNTIF(F29,$F$73)+COUNTIF(F29,$F$74)+COUNTIF(F29,$F$75)+COUNTIF(F29,$F$76)+COUNTIF(F29,$F$77)+COUNTIF(F29,$F$78)+COUNTIF(F29,$F$79)+4*(COUNTIF(F29,$F$80)+COUNTIF(F29,$F$81)) -> 0 | J89: =COUNTIF(I29,$F$71)+COUNTIF(I29,$F$72)+COUNTIF(I29,$F$73)+COUNTIF(I29,$F$74)+COUNTIF(I29,$F$75)+COUNTIF(I29,$F$76)+COUNTIF(I29,$F$77)+COUNTIF(I29,$F$78)+COUNTIF(I29,$F$79)+4*(COUNTIF(I29,$F$80)+COUNTIF(I29,$F$81)) -> 0 | K89: =COUNTIF(N29,$F$71)+COUNTIF(N29,$F$72)+COUNTIF(N29,$F$73)+COUNTIF(N29,$F$74)+COUNTIF(N29,$F$75)+COUNTIF(N29,$F$76)+COUNTIF(N29,$F$77)+COUNTIF(N29,$F$78)+COUNTIF(N29,$F$79)+4*(COUNTIF(N29,$F$80)+COUNTIF(N29,$F$81)) -> 0 | L89: =SUM(I89:K89) -> 0
I90: =COUNTIF(F30,$F$71)+COUNTIF(F30,$F$72)+COUNTIF(F30,$F$73)+COUNTIF(F30,$F$74)+COUNTIF(F30,$F$75)+COUNTIF(F30,$F$76)+COUNTIF(F30,$F$77)+COUNTIF(F30,$F$78)+COUNTIF(F30,$F$79)+4*(COUNTIF(F30,$F$80)+COUNTIF(F30,$F$81)) -> 0 | J90: =COUNTIF(I30,$F$71)+COUNTIF(I30,$F$72)+COUNTIF(I30,$F$73)+COUNTIF(I30,$F$74)+COUNTIF(I30,$F$75)+COUNTIF(I30,$F$76)+COUNTIF(I30,$F$77)+COUNTIF(I30,$F$78)+COUNTIF(I30,$F$79)+4*(COUNTIF(I30,$F$80)+COUNTIF(I30,$F$81)) -> 0 | K90: =COUNTIF(N30,$F$71)+COUNTIF(N30,$F$72)+COUNTIF(N30,$F$73)+COUNTIF(N30,$F$74)+COUNTIF(N30,$F$75)+COUNTIF(N30,$F$76)+COUNTIF(N30,$F$77)+COUNTIF(N30,$F$78)+COUNTIF(N30,$F$79)+4*(COUNTIF(N30,$F$80)+COUNTIF(N30,$F$81)) -> 0 | L90: =SUM(I90:K90) -> 0
